BEGIN:VCALENDAR
VERSION:2.0
PRODID:-//SwissRescue//Events//FR
CALSCALE:GREGORIAN
METHOD:PUBLISH
BEGIN:VEVENT
UID:sr-event-1044@www.swissrescue.com
DTSTAMP:20260422T084000Z
DTSTART:20260120T163000Z
DTEND:20260120T180000Z
SUMMARY:Webinaire - L'IA au service de l'apprentissage
LOCATION:En distanciel
DESCRIPTION:Webinaire CRODES sur l'IA dans l'apprentissage\n\nhttps://www.swissrescue.com/article.php?id=1044
URL:https://www.swissrescue.com/article.php?id=1044
END:VEVENT
END:VCALENDAR
