BEGIN:VCALENDAR
VERSION:2.0
PRODID:-//SwissRescue//Events//FR
CALSCALE:GREGORIAN
METHOD:PUBLISH
BEGIN:VEVENT
UID:sr-event-1050@www.swissrescue.com
DTSTAMP:20260420T072510Z
DTSTART:20260610T140000Z
DTEND:20260612T160000Z
SUMMARY:Congrès annuel de Cardiopneumologie
LOCATION:Basel
DESCRIPTION:Congrès sur les problèmes pneumologiques et cardiovasculaires. 3 jours de présentations et de workshop.\n\nhttps://www.swissrescue.com/article.php?id=1050
URL:https://www.swissrescue.com/article.php?id=1050
END:VEVENT
END:VCALENDAR
