BEGIN:VCALENDAR
VERSION:2.0
PRODID:-//SwissRescue//Events//FR
CALSCALE:GREGORIAN
METHOD:PUBLISH
BEGIN:VEVENT
UID:sr-event-1051@www.swissrescue.com
DTSTAMP:20260420T085652Z
DTSTART:20260131T100000Z
DTEND:20260131T160000Z
SUMMARY:Inauguration de la centrale de Ste-Croix
LOCATION:Ste-Croix
DESCRIPTION:Inauguration de la nouvelle centrale d'ambulances à Ste-Croix.\n\nhttps://www.swissrescue.com/article.php?id=1051
URL:https://www.swissrescue.com/article.php?id=1051
END:VEVENT
END:VCALENDAR
