BEGIN:VCALENDAR
VERSION:2.0
PRODID:-//SwissRescue//Events//FR
CALSCALE:GREGORIAN
METHOD:PUBLISH
BEGIN:VEVENT
UID:sr-event-1056@www.swissrescue.com
DTSTAMP:20260420T112446Z
DTSTART:20260917T090000Z
DTEND:20260919T170000Z
SUMMARY:Resuscitation 2026
LOCATION:Milan (Italie)
DESCRIPTION:Le Congrès européen de la réanimation – Resuscitation 2026\, organisé par l’European Resuscitation Council (ERC)\, se tiendra du 17 au 19 septembre 2026 à Milan (Italie)\,\n\nhttps://www.swissrescue.com/article.php?id=1056
URL:https://www.swissrescue.com/article.php?id=1056
END:VEVENT
END:VCALENDAR
